BEGIN:VCALENDAR
VERSION:2.0
PRODID:-//ChamberMaster//Event Calendar 2.0//EN
METHOD:PUBLISH
X-PUBLISHED-TTL:P3D
REFRESH-INTERVAL:P3D
CALSCALE:GREGORIAN
BEGIN:VEVENT
DTSTART:20170321T163000Z
DTEND:20170321T170000Z
X-MICROSOFT-CDO-ALLDAYEVENT:FALSE
SUMMARY:Ribbon Cutting Ceremony for Monarch Physical Therapy
DESCRIPTION:Come join us for a Ribbon Cutting Ceremony for Monarch Physical Therapy. (link)
X-ALT-DESC;FMTTYPE=text/html:Come join us for a Ribbon Cutting Ceremony for Monarch Physical Therapy. <a href="http://www.monarchpt.com">(link</a>)
LOCATION:28604 IH 10 W suite 4 (map) Boerne\, Texas 78006 P: 830.431.0773
UID:e.187.11585
SEQUENCE:3
DTSTAMP:20260423T072110Z
URL:https://business.boerne.org/events/details/ribbon-cutting-ceremony-for-monarch-physical-therapy-11585
END:VEVENT

END:VCALENDAR
