BEGIN:VCALENDAR
VERSION:2.0
PRODID:-//ChamberMaster//Event Calendar 2.0//EN
METHOD:PUBLISH
X-PUBLISHED-TTL:P3D
REFRESH-INTERVAL:P3D
CALSCALE:GREGORIAN
BEGIN:VEVENT
DTSTART:20170425T163000Z
DTEND:20170425T170000Z
X-MICROSOFT-CDO-ALLDAYEVENT:FALSE
SUMMARY:Ribbon Cutting Ceremony for Mary Kay- Kim Beckett Independent Beauty Consultant
DESCRIPTION:Come join us for a Ribbon Cutting Ceremony for Mary Kay- Kim Beckett Independent Beauty Consultant. (link)
X-ALT-DESC;FMTTYPE=text/html:Come join us for a Ribbon Cutting Ceremony for Mary Kay- Kim Beckett Independent Beauty Consultant. (link)
LOCATION:Greater Boerne Chamber of Commerce 121 South Main Boerne\, TX 78006
UID:e.187.11645
SEQUENCE:3
DTSTAMP:20260423T060750Z
URL:https://business.boerne.org/events/details/ribbon-cutting-ceremony-for-mary-kay-kim-beckett-independent-beauty-consultant-11645
END:VEVENT

END:VCALENDAR
