BEGIN:VCALENDAR
VERSION:2.0
PRODID:-//ChamberMaster//Event Calendar 2.0//EN
METHOD:PUBLISH
X-PUBLISHED-TTL:P3D
REFRESH-INTERVAL:P3D
CALSCALE:GREGORIAN
BEGIN:VEVENT
DTSTART:20170530T183000Z
DTEND:20170530T190000Z
X-MICROSOFT-CDO-ALLDAYEVENT:FALSE
SUMMARY:Ribbon Cutting Ceremony for Maker's Place
DESCRIPTION:Come join us for a Ribbon Cutting Ceremony Maker's Place. (link)
X-ALT-DESC;FMTTYPE=text/html:Come join us for a Ribbon Cutting Ceremony Maker&#39\;s Place. (link)
LOCATION:Maker's Place 233 S. Main St.\, Ste. A Boerne\, TX 78006 (210) 882-9754 (work)
UID:e.187.11664
SEQUENCE:3
DTSTAMP:20260423T040722Z
URL:https://business.boerne.org/events/details/ribbon-cutting-ceremony-for-maker-s-place-11664
END:VEVENT

END:VCALENDAR
