BEGIN:VCALENDAR
VERSION:2.0
PRODID:-//ChamberMaster//Event Calendar 2.0//EN
METHOD:PUBLISH
X-PUBLISHED-TTL:P3D
REFRESH-INTERVAL:P3D
CALSCALE:GREGORIAN
BEGIN:VEVENT
DTSTART:20171116T173000Z
DTEND:20171116T180000Z
X-MICROSOFT-CDO-ALLDAYEVENT:FALSE
SUMMARY:Ribbon Cutting Ceremony for M/I Homes
DESCRIPTION:Come join us for a Ribbon Cutting Ceremony for M/I Homes (link)
X-ALT-DESC;FMTTYPE=text/html:Come join us for a Ribbon Cutting Ceremony for M/I Homes (<a href="http://www.mihomes.com">link</a>)
LOCATION:M/I Homes 113 Kingston Ct Boerne\, TX 78006
UID:e.187.12078
SEQUENCE:3
DTSTAMP:20260422T184400Z
URL:https://business.boerne.org/events/details/ribbon-cutting-ceremony-for-m-i-homes-12078
END:VEVENT

END:VCALENDAR
