BEGIN:VCALENDAR
VERSION:2.0
PRODID:-//ChamberMaster//Event Calendar 2.0//EN
METHOD:PUBLISH
X-PUBLISHED-TTL:P3D
REFRESH-INTERVAL:P3D
CALSCALE:GREGORIAN
BEGIN:VEVENT
DTSTART:20180320T163000Z
DTEND:20180320T170000Z
X-MICROSOFT-CDO-ALLDAYEVENT:FALSE
SUMMARY:Ribbon Cutting Ceremony for Lila's Attic Resale Boutique
DESCRIPTION:Come join us for a Ribbon Cutting Ceremony for Lila's Attic Resale Boutique.
X-ALT-DESC;FMTTYPE=text/html:Come join us for a Ribbon Cutting Ceremony for Lila&#39\;s Attic Resale Boutique.&nbsp\;
LOCATION:Lila's Attic Resale Boutique (map) 720 Johns Road Boerne\, TX 78006
UID:e.187.13628
SEQUENCE:3
DTSTAMP:20260422T121742Z
URL:https://business.boerne.org/events/details/ribbon-cutting-ceremony-for-lila-s-attic-resale-boutique-13628
END:VEVENT

END:VCALENDAR
