BEGIN:VCALENDAR
VERSION:2.0
PRODID:-//ChamberMaster//Event Calendar 2.0//EN
METHOD:PUBLISH
X-PUBLISHED-TTL:P3D
REFRESH-INTERVAL:P3D
CALSCALE:GREGORIAN
BEGIN:VEVENT
DTSTART:20170915T210000Z
DTEND:20170915T213000Z
X-MICROSOFT-CDO-ALLDAYEVENT:FALSE
SUMMARY:Ribbon Cutting Ceremony for La Gloria
DESCRIPTION:Come join us for a Ribbon Cutting Ceremony for La Gloria. (link)
X-ALT-DESC;FMTTYPE=text/html:Come join us for a Ribbon Cutting Ceremony for La Gloria. (<a href="http://chefjohnnyhernandez.com/">link</a>)&nbsp\;
LOCATION:La Gloria (map) 21819 IH 10 W San Antonio\, TX 78257
UID:e.187.11960
SEQUENCE:3
DTSTAMP:20260422T230203Z
URL:https://business.boerne.org/events/details/ribbon-cutting-ceremony-for-la-gloria-11960
END:VEVENT

END:VCALENDAR
