BEGIN:VCALENDAR
VERSION:2.0
PRODID:-//ChamberMaster//Event Calendar 2.0//EN
METHOD:PUBLISH
X-PUBLISHED-TTL:P3D
REFRESH-INTERVAL:P3D
CALSCALE:GREGORIAN
BEGIN:VEVENT
DTSTART:20180727T160000Z
DTEND:20180727T170000Z
X-MICROSOFT-CDO-ALLDAYEVENT:FALSE
SUMMARY:Ribbon Cutting Ceremony for Joshua Creek Pro Shop
DESCRIPTION:Join us for a Ribbon Cutting Ceremony at Joshua Creek Ranch Pro Shop. Door prizes\, plus complimentary beverages & snacks while you Shop!
X-ALT-DESC;FMTTYPE=text/html:Join us for a Ribbon Cutting Ceremony at Joshua Creek Ranch Pro Shop.&nbsp\;Door prizes\, plus complimentary beverages &amp\; snacks while you Shop!
LOCATION:Joshua Creek Ranch Pro Shop 132 Cravey Rd. Boerne\, TX 78006 (830) 537-5090
UID:e.187.14256
SEQUENCE:3
DTSTAMP:20260420T061907Z
URL:https://business.boerne.org/events/details/ribbon-cutting-ceremony-for-joshua-creek-pro-shop-14256
END:VEVENT

END:VCALENDAR
