BEGIN:VCALENDAR
VERSION:2.0
PRODID:-//ChamberMaster//Event Calendar 2.0//EN
METHOD:PUBLISH
X-PUBLISHED-TTL:P3D
REFRESH-INTERVAL:P3D
CALSCALE:GREGORIAN
BEGIN:VEVENT
DTSTART:20170309T193000Z
DTEND:20170309T200000Z
X-MICROSOFT-CDO-ALLDAYEVENT:FALSE
SUMMARY:Ribbon Cutting Ceremony for JB Goodwin Realty- Laura Hickok
DESCRIPTION:Come join us for a Ribbon Cutting Ceremony JB Goodwin Realty- Laura Hickok. (Link)
X-ALT-DESC;FMTTYPE=text/html:Come join us for a Ribbon Cutting Ceremony JB Goodwin Realty- Laura Hickok. (<a href="https://www.jbgoodwin.com/agents/laura-hickok/">Link</a>)
LOCATION:Greater Boerne Chamber of Commerce 121 South Main Boerne\, TX 78006
UID:e.187.11595
SEQUENCE:3
DTSTAMP:20260423T085133Z
URL:https://business.boerne.org/events/details/ribbon-cutting-ceremony-for-jb-goodwin-realty-laura-hickok-11595
END:VEVENT

END:VCALENDAR
