BEGIN:VCALENDAR
VERSION:2.0
PRODID:-//ChamberMaster//Event Calendar 2.0//EN
METHOD:PUBLISH
X-PUBLISHED-TTL:P3D
REFRESH-INTERVAL:P3D
CALSCALE:GREGORIAN
BEGIN:VEVENT
DTSTART:20180412T183000Z
DTEND:20180412T190000Z
X-MICROSOFT-CDO-ALLDAYEVENT:FALSE
SUMMARY:Ribbon Cutting Ceremony for Isle at Watercrest Dominion.
DESCRIPTION:Come join us for a Ribbon Cutting Ceremony for Isle at Watercrest Dominion. (link)
X-ALT-DESC;FMTTYPE=text/html:Come join us for a Ribbon Cutting Ceremony for Isle at Watercrest Dominion. <a href="http://www.watercrestdominion.com/">(link</a>)&nbsp\;
LOCATION:Isle at Watercrest Dominion (map) o 210.947.7000 | c 210.792.2408 | f 210.858.4491 6906 Heuermann Rd. San Antonio\, TX 78256 http://www.integratedreg.com/isl
UID:e.187.13669
SEQUENCE:3
DTSTAMP:20260420T110801Z
URL:https://business.boerne.org/events/details/ribbon-cutting-ceremony-for-isle-at-watercrest-dominion-13669
END:VEVENT

END:VCALENDAR
