BEGIN:VCALENDAR
VERSION:2.0
PRODID:-//ChamberMaster//Event Calendar 2.0//EN
METHOD:PUBLISH
X-PUBLISHED-TTL:P3D
REFRESH-INTERVAL:P3D
CALSCALE:GREGORIAN
BEGIN:VEVENT
DTSTART:20180111T173000Z
DTEND:20180111T180000Z
X-MICROSOFT-CDO-ALLDAYEVENT:FALSE
SUMMARY:Ribbon Cutting Ceremony for Illumination
DESCRIPTION:Come join us for a Ribbon Cutting Ceremony for Illumination(link).
X-ALT-DESC;FMTTYPE=text/html:Come join us for a Ribbon Cutting Ceremony for Illumination(<a href="http://www.illuminatedstones.com/">link</a>).
LOCATION:Illumination (map) 23127 IH 10 West Ste. 201 San Antonio\, TX 78257
UID:e.187.13107
SEQUENCE:3
DTSTAMP:20260422T153534Z
URL:https://business.boerne.org/events/details/ribbon-cutting-ceremony-for-illumination-13107
END:VEVENT

END:VCALENDAR
