BEGIN:VCALENDAR
VERSION:2.0
PRODID:-//ChamberMaster//Event Calendar 2.0//EN
METHOD:PUBLISH
X-PUBLISHED-TTL:P3D
REFRESH-INTERVAL:P3D
CALSCALE:GREGORIAN
BEGIN:VEVENT
DTSTART:20180405T183000Z
DTEND:20180405T190000Z
X-MICROSOFT-CDO-ALLDAYEVENT:FALSE
SUMMARY:Ribbon Cutting Ceremony for Hill Country Dental Center
DESCRIPTION:Come join us for a Ribbon Cutting Ceremony for Hill Country Dental Center. (link)
X-ALT-DESC;FMTTYPE=text/html:Come join us for a Ribbon Cutting Ceremony for Hill Country Dental Center. (link)&nbsp\;
LOCATION:Hill Country Dental (new location) (map) 1112 South Main Ste. A Boerne\, TX 78006
UID:e.187.13106
SEQUENCE:3
DTSTAMP:20260420T111629Z
URL:https://business.boerne.org/events/details/ribbon-cutting-ceremony-for-hill-country-dental-center-13106
END:VEVENT

END:VCALENDAR
