BEGIN:VCALENDAR
VERSION:2.0
PRODID:-//ChamberMaster//Event Calendar 2.0//EN
METHOD:PUBLISH
X-PUBLISHED-TTL:P3D
REFRESH-INTERVAL:P3D
CALSCALE:GREGORIAN
BEGIN:VEVENT
DTSTART:20170821T150000Z
DTEND:20170821T153000Z
X-MICROSOFT-CDO-ALLDAYEVENT:FALSE
SUMMARY:Ribbon Cutting Ceremony for HEB Curbside Pickup
DESCRIPTION:Come join us for a Ribbon Cutting Ceremony for H-E-B  NEW Curbside Pick-up. Go to hebtoyou.com to order your groceries online beginning August 21.
X-ALT-DESC;FMTTYPE=text/html:Come join us for a Ribbon Cutting Ceremony for H-E-B &nbsp\;NEW Curbside Pick-up. Go to <strong>hebtoyou.com </strong>to order your groceries online beginning August 21.<br />\n&nbsp\;
LOCATION:H-E-B Curbside Pick-up 420 W. Bandera Rd. Boerne\, TX 78006
UID:e.187.11959
SEQUENCE:3
DTSTAMP:20260422T231522Z
URL:https://business.boerne.org/events/details/ribbon-cutting-ceremony-for-heb-curbside-pickup-11959
END:VEVENT

END:VCALENDAR
