BEGIN:VCALENDAR
VERSION:2.0
PRODID:-//ChamberMaster//Event Calendar 2.0//EN
METHOD:PUBLISH
X-PUBLISHED-TTL:P3D
REFRESH-INTERVAL:P3D
CALSCALE:GREGORIAN
BEGIN:VEVENT
DTSTART:20180215T173000Z
DTEND:20180215T180000Z
X-MICROSOFT-CDO-ALLDAYEVENT:FALSE
SUMMARY:Ribbon Cutting Ceremony for Gastroenterology Consultants of San Antonio\, P. A.
DESCRIPTION:Come join us for a Ribbon Cutting Ceremony for Gastroenterology Consultants of San Antonio\, P. A. (link)
X-ALT-DESC;FMTTYPE=text/html:Come join us for a Ribbon Cutting Ceremony for&nbsp\;Gastroenterology Consultants of San Antonio\, P. A. (<a href="https://www.gastroconsa.com/">link</a>)&nbsp\;
LOCATION:Gastroenterology Consultants of San Antonio\, P. A. 134 Menger Springs Ste. 1100 (map) Boerne\, TX 78006
UID:e.187.13265
SEQUENCE:3
DTSTAMP:20260422T135123Z
URL:https://business.boerne.org/events/details/ribbon-cutting-ceremony-for-gastroenterology-consultants-of-san-antonio-p-a-13265
END:VEVENT

END:VCALENDAR
