BEGIN:VCALENDAR
VERSION:2.0
PRODID:-//ChamberMaster//Event Calendar 2.0//EN
METHOD:PUBLISH
X-PUBLISHED-TTL:P3D
REFRESH-INTERVAL:P3D
CALSCALE:GREGORIAN
BEGIN:VEVENT
DTSTART:20180403T183000Z
DTEND:20180403T190000Z
X-MICROSOFT-CDO-ALLDAYEVENT:FALSE
SUMMARY:Ribbon Cutting Ceremony for Garner Custom Homes
DESCRIPTION:Come join us for a Ribbon Cutting Ceremony for Garner Custom Homes. (link)
X-ALT-DESC;FMTTYPE=text/html:Come join us for a Ribbon Cutting Ceremony for Garner Custom Homes. (<a href="http://garnerhomes.com/">link</a>)
LOCATION:Garner Custom Homes (model home in The Springs Subdivision Cordillera Ranch off of 3351) 17 Vaquero Pass Boerne\, TX 78006
UID:e.187.13624
SEQUENCE:3
DTSTAMP:20260420T110354Z
URL:https://business.boerne.org/events/details/ribbon-cutting-ceremony-for-garner-custom-homes-13624
END:VEVENT

END:VCALENDAR
