BEGIN:VCALENDAR
VERSION:2.0
PRODID:-//ChamberMaster//Event Calendar 2.0//EN
METHOD:PUBLISH
X-PUBLISHED-TTL:P3D
REFRESH-INTERVAL:P3D
CALSCALE:GREGORIAN
BEGIN:VEVENT
DTSTART:20170610T190000Z
DTEND:20170610T200000Z
X-MICROSOFT-CDO-ALLDAYEVENT:FALSE
SUMMARY:Ribbon Cutting Ceremony for Gallery 195 of Boerne. LLP
DESCRIPTION:Come join us for the Ribbon Cutting Ceremony for Gallery 195 of Boerne\, LLP.
X-ALT-DESC;FMTTYPE=text/html:Come join us for the Ribbon Cutting Ceremony for Gallery 195 of Boerne\, LLP.
LOCATION:Gallery 195 (map) 195 South Main Street Boerne\, TX 78006
UID:e.187.11677
SEQUENCE:3
DTSTAMP:20260423T023130Z
URL:https://business.boerne.org/events/details/ribbon-cutting-ceremony-for-gallery-195-of-boerne-llp-11677
END:VEVENT

END:VCALENDAR
