BEGIN:VCALENDAR
VERSION:2.0
PRODID:-//ChamberMaster//Event Calendar 2.0//EN
METHOD:PUBLISH
X-PUBLISHED-TTL:P3D
REFRESH-INTERVAL:P3D
CALSCALE:GREGORIAN
BEGIN:VEVENT
DTSTART:20181030T163000Z
DTEND:20181030T170000Z
X-MICROSOFT-CDO-ALLDAYEVENT:FALSE
SUMMARY:Ribbon Cutting Ceremony for Forever Fit Boerne
DESCRIPTION:Join us for a Ribbon Cutting Ceremony for Forever Fit Boerne.
X-ALT-DESC;FMTTYPE=text/html:Join us for a Ribbon Cutting Ceremony for Forever Fit Boerne.
LOCATION:Forever Fit Boerne 455 Main St.\, Suite #3 Boerne\, TX 78006
UID:e.187.14894
SEQUENCE:3
DTSTAMP:20260420T013549Z
URL:https://business.boerne.org/events/details/ribbon-cutting-ceremony-for-forever-fit-boerne-14894
END:VEVENT

END:VCALENDAR
