BEGIN:VCALENDAR
VERSION:2.0
PRODID:-//ChamberMaster//Event Calendar 2.0//EN
METHOD:PUBLISH
X-PUBLISHED-TTL:P3D
REFRESH-INTERVAL:P3D
CALSCALE:GREGORIAN
BEGIN:VEVENT
DTSTART:20170404T183000Z
DTEND:20170404T190000Z
X-MICROSOFT-CDO-ALLDAYEVENT:FALSE
SUMMARY:Ribbon Cutting Ceremony for Foresters Financial
DESCRIPTION:Come join us for a Ribbon Cutting Ceremony for Foresters Financial (link)
X-ALT-DESC;FMTTYPE=text/html:Come join us for a Ribbon Cutting Ceremony for Foresters Financial <a href="http://forestersfinancial.com">(link</a>)
LOCATION:Greater Boerne Chamber of Commerce 121 South Main St. Boerne\, TX 78006
UID:e.187.11607
SEQUENCE:3
DTSTAMP:20260423T055201Z
URL:https://business.boerne.org/events/details/ribbon-cutting-ceremony-for-foresters-financial-11607
END:VEVENT

END:VCALENDAR
