BEGIN:VCALENDAR
VERSION:2.0
PRODID:-//ChamberMaster//Event Calendar 2.0//EN
METHOD:PUBLISH
X-PUBLISHED-TTL:P3D
REFRESH-INTERVAL:P3D
CALSCALE:GREGORIAN
BEGIN:VEVENT
DTSTART:20170316T183000Z
DTEND:20170316T190000Z
X-MICROSOFT-CDO-ALLDAYEVENT:FALSE
SUMMARY:Ribbon Cutting Ceremony for Diamond Spa
DESCRIPTION:Come join us for a Ribbon Cutting Ceremony for Diamond Spa. (link)
X-ALT-DESC;FMTTYPE=text/html:Come join us for a Ribbon Cutting Ceremony for Diamond Spa. (<a href="https://diamondspa.godaddysites.com/">link</a>)
LOCATION:We are located in the 46 Crossing Strip Center off of FM 3351 better known as Ralph Fair Road and the corner of Hwy 46 behind the Valero Gas Station. Our physical address is: 1 FM 3351 South Suite #140 Boerne\, Texas 78006 (830) 336-2221
UID:e.187.11600
SEQUENCE:3
DTSTAMP:20260423T071411Z
URL:https://business.boerne.org/events/details/ribbon-cutting-ceremony-for-diamond-spa-11600
END:VEVENT

END:VCALENDAR
