BEGIN:VCALENDAR
VERSION:2.0
PRODID:-//ChamberMaster//Event Calendar 2.0//EN
METHOD:PUBLISH
X-PUBLISHED-TTL:P3D
REFRESH-INTERVAL:P3D
CALSCALE:GREGORIAN
BEGIN:VEVENT
DTSTART:20170914T163000Z
DTEND:20170914T170000Z
X-MICROSOFT-CDO-ALLDAYEVENT:FALSE
SUMMARY:Ribbon Cutting Ceremony for DermOne Dermatology
DESCRIPTION:Come join us for a Ribbon Cutting Ceremony for DermOne Dermatology. (link)
X-ALT-DESC;FMTTYPE=text/html:Come join us for a Ribbon Cutting Ceremony for DermOne Dermatology. (<a href="https://dermone.com/">link</a>)
LOCATION:Methodist Boerne (map) 134 Menger Springs Rd. Ste 1230 Boerne\, TX 78006
UID:e.187.11700
SEQUENCE:3
DTSTAMP:20260422T213027Z
URL:https://business.boerne.org/events/details/ribbon-cutting-ceremony-for-dermone-dermatology-11700
END:VEVENT

END:VCALENDAR
