BEGIN:VCALENDAR
VERSION:2.0
PRODID:-//ChamberMaster//Event Calendar 2.0//EN
METHOD:PUBLISH
X-PUBLISHED-TTL:P3D
REFRESH-INTERVAL:P3D
CALSCALE:GREGORIAN
BEGIN:VEVENT
DTSTART:20180731T183000Z
DTEND:20180731T190000Z
X-MICROSOFT-CDO-ALLDAYEVENT:FALSE
SUMMARY:Ribbon Cutting Ceremony for Democratic Party of Kendall County
DESCRIPTION:Join us for a Champagne & Cupcakes Ribbon Cutting Ceremony for The Democratic Party of Kendall County
X-ALT-DESC;FMTTYPE=text/html:Join us for a Champagne &amp\;&nbsp\;Cupcakes&nbsp\;Ribbon Cutting Ceremony for The&nbsp\;Democratic Party of Kendall County&nbsp\;
LOCATION:911 S. Main St.\, Ste. 11 Boerne\, TX 78006
UID:e.187.13976
SEQUENCE:3
DTSTAMP:20260420T062213Z
URL:https://business.boerne.org/events/details/ribbon-cutting-ceremony-for-democratic-party-of-kendall-county-13976
END:VEVENT

END:VCALENDAR
