BEGIN:VCALENDAR
VERSION:2.0
PRODID:-//ChamberMaster//Event Calendar 2.0//EN
METHOD:PUBLISH
X-PUBLISHED-TTL:P3D
REFRESH-INTERVAL:P3D
CALSCALE:GREGORIAN
BEGIN:VEVENT
DTSTART:20180724T163000Z
DTEND:20180724T170000Z
X-MICROSOFT-CDO-ALLDAYEVENT:FALSE
SUMMARY:Ribbon Cutting Ceremony for Debra Janes Luxury Real Estate
DESCRIPTION:Join us for a Ribbon Cutting Ceremony for Debra Janes Luxury Real Estate Group at 116 Sendero Ridge in Cordillera Ranch.\n\n\n\nAward-winning builder\, Todd Glowka\, has exceeded expectations in a new one story design offering the finest in new construction. The exquisite meeting of colors\, materials and quality create a masterful blend of hill country flavor and organic contemporary elements. Abundant oaks on 13.3 +/- acres surround this floor plan with banks of glass\, sleek pool and temperature controlled glass wine room. Unparalleled style brings chic sex appeal and easy living to the hill country.
X-ALT-DESC;FMTTYPE=text/html:<span style="font-family:arial\;">Join us for a Ribbon Cutting Ceremony for Debra Janes Luxury Real Estate Group at 116 Sendero Ridge in Cordillera Ranch.<br />\n<br />\n<span style="color: rgb(0\, 0\, 0)\;">Award-winning builder\, Todd Glowka\, has exceeded expectations in a new one story design offering the finest in new construction. The exquisite meeting of colors\, materials and quality create a masterful blend of hill country flavor and organic contemporary elements. Abundant oaks on 13.3 +/- acres surround this floor plan with banks of glass\, sleek pool and temperature controlled glass wine room. Unparalleled style brings chic sex appeal and easy living to the hill country.</span></span>
LOCATION:116 Sendero Ridge Boerne\, TX 78006
UID:e.187.14276
SEQUENCE:3
DTSTAMP:20260420T074717Z
URL:https://business.boerne.org/events/details/ribbon-cutting-ceremony-for-debra-janes-luxury-real-estate-14276
END:VEVENT

END:VCALENDAR
