BEGIN:VCALENDAR
VERSION:2.0
PRODID:-//ChamberMaster//Event Calendar 2.0//EN
METHOD:PUBLISH
X-PUBLISHED-TTL:P3D
REFRESH-INTERVAL:P3D
CALSCALE:GREGORIAN
BEGIN:VEVENT
DTSTART:20171214T173000Z
DTEND:20171214T180000Z
X-MICROSOFT-CDO-ALLDAYEVENT:FALSE
SUMMARY:Ribbon Cutting Ceremony for Crest Home Health
DESCRIPTION:Come join us for a Ribbon Cutting Ceremony for Crest Home Health (link).
X-ALT-DESC;FMTTYPE=text/html:Come join us for a Ribbon Cutting Ceremony for Crest Home Health (<a href="http://cresthomehealth.com/">link</a>).
LOCATION:Crest Home Health (map) 604 N. Main St.\, Ste. 300 Boerne\, TX 78006 (210) 415-3471 ) 415-3471
UID:e.187.12081
SEQUENCE:3
DTSTAMP:20260422T172614Z
URL:https://business.boerne.org/events/details/ribbon-cutting-ceremony-for-crest-home-health-12081
END:VEVENT

END:VCALENDAR
