BEGIN:VCALENDAR
VERSION:2.0
PRODID:-//ChamberMaster//Event Calendar 2.0//EN
METHOD:PUBLISH
X-PUBLISHED-TTL:P3D
REFRESH-INTERVAL:P3D
CALSCALE:GREGORIAN
BEGIN:VEVENT
DTSTART:20170829T163000Z
DTEND:20170829T170000Z
X-MICROSOFT-CDO-ALLDAYEVENT:FALSE
SUMMARY:Ribbon Cutting Ceremony for Cleary Zimmermann Engineers
DESCRIPTION:Come join us for a Ribbon Cutting Ceremony for Cleary Zimmermann Engineers . (link)
X-ALT-DESC;FMTTYPE=text/html:Come join us for a Ribbon Cutting Ceremony for Cleary Zimmermann Engineers . (<a href="https://clearyzimmermann.com/">link)</a>
LOCATION:Greater Boerne Chamber of Commerce 121 South Main St. Boerne\, TX 78006
UID:e.187.11974
SEQUENCE:3
DTSTAMP:20260422T231634Z
URL:https://business.boerne.org/events/details/ribbon-cutting-ceremony-for-cleary-zimmermann-engineers-11974
END:VEVENT

END:VCALENDAR
