BEGIN:VCALENDAR
VERSION:2.0
PRODID:-//ChamberMaster//Event Calendar 2.0//EN
METHOD:PUBLISH
X-PUBLISHED-TTL:P3D
REFRESH-INTERVAL:P3D
CALSCALE:GREGORIAN
BEGIN:VEVENT
DTSTART:20180605T183000Z
DTEND:20180605T190000Z
X-MICROSOFT-CDO-ALLDAYEVENT:FALSE
SUMMARY:Ribbon Cutting Ceremony for Cibolo Creek Dermatology Group
DESCRIPTION:Come join us for a Ribbon Cutting Ceremony for Cibolo Creek Dermatology Group.
X-ALT-DESC;FMTTYPE=text/html:Come join us for a Ribbon Cutting Ceremony for&nbsp\;Cibolo Creek Dermatology Group.<br />\n&nbsp\;
LOCATION:Cibolo Creek Dermatology Group 120 Dietert Ave Bldg 300 Boerne\, TX 78006 O:830-971-9151 F:830-626-9101
UID:e.187.13696
SEQUENCE:3
DTSTAMP:20260420T074612Z
URL:https://business.boerne.org/events/details/ribbon-cutting-ceremony-for-cibolo-creek-dermatology-group-13696
END:VEVENT

END:VCALENDAR
