BEGIN:VCALENDAR
VERSION:2.0
PRODID:-//ChamberMaster//Event Calendar 2.0//EN
METHOD:PUBLISH
X-PUBLISHED-TTL:P3D
REFRESH-INTERVAL:P3D
CALSCALE:GREGORIAN
BEGIN:VEVENT
DTSTART:20170321T183000Z
DTEND:20170321T190000Z
X-MICROSOFT-CDO-ALLDAYEVENT:FALSE
SUMMARY:Ribbon Cutting Ceremony for Chesmar Homes
DESCRIPTION:Come join us for a Ribbon Cutting Ceremony for Chesmar Homes.(link)
X-ALT-DESC;FMTTYPE=text/html:Come join us for a Ribbon Cutting Ceremony for Chesmar Homes.(<a href="http://chesmar.com/san-antonio/regent-park/">link</a>)
LOCATION:Chesmar Homes (model homes) Regent Park 102 Kingston Court Boerne\, Tx 78006 Regent Park Boulevard\, is just off the frontage Rd of I-10 by exit #543 at 32005 I-10\, Boerne\, TX 78006 between Nisan and Infinity of Boerne and next to Hill Country African Violet Nursery. Once you enter on Regent Boulevard\, drive of a mile and turn right on Kingston Court. Chesmar's model will be on the right hand side.
UID:e.187.11571
SEQUENCE:3
DTSTAMP:20260423T071541Z
URL:https://business.boerne.org/events/details/ribbon-cutting-ceremony-for-chesmar-homes-11571
END:VEVENT

END:VCALENDAR
