BEGIN:VCALENDAR
VERSION:2.0
PRODID:-//ChamberMaster//Event Calendar 2.0//EN
METHOD:PUBLISH
X-PUBLISHED-TTL:P3D
REFRESH-INTERVAL:P3D
CALSCALE:GREGORIAN
BEGIN:VEVENT
DTSTART:20170418T183000Z
DTEND:20170418T190000Z
X-MICROSOFT-CDO-ALLDAYEVENT:FALSE
SUMMARY:Ribbon Cutting Ceremony for Capital Title of Texas LLC.
DESCRIPTION:Come join us for a Ribbon Cutting Ceremony Capital Title of Texas LLC. (link)
X-ALT-DESC;FMTTYPE=text/html:Come join us for a Ribbon Cutting Ceremony Capital Title of Texas LLC. (<a href="http://www.ctot.com/">link</a>)
LOCATION:705 South Main (map) Boerne\, TX 78006
UID:e.187.11624
SEQUENCE:3
DTSTAMP:20260423T060455Z
URL:https://business.boerne.org/events/details/ribbon-cutting-ceremony-for-capital-title-of-texas-llc-11624
END:VEVENT

END:VCALENDAR
