BEGIN:VCALENDAR
VERSION:2.0
PRODID:-//ChamberMaster//Event Calendar 2.0//EN
METHOD:PUBLISH
X-PUBLISHED-TTL:P3D
REFRESH-INTERVAL:P3D
CALSCALE:GREGORIAN
BEGIN:VEVENT
DTSTART:20170516T183000Z
DTEND:20170516T190000Z
X-MICROSOFT-CDO-ALLDAYEVENT:FALSE
SUMMARY:Ribbon Cutting Ceremony for Brit Figures and HC Cryotherapy
DESCRIPTION:Come join us for a Ribbon Cutting Ceremony for Brit Figure (link) and HC Cryotherapy on their new float room. (link)
X-ALT-DESC;FMTTYPE=text/html:Come join us for a Ribbon Cutting Ceremony for Brit Figure (<a href="http://www.britfigure.com/">link</a>)&nbsp\;and HC Cryotherapy on their new float room. (<a href="http://hccryo.com/">link</a>)
LOCATION:HC Cryotheraphy (map) 109 Waterview Pkwy Ste. 102 Boerne\, TX 78006
UID:e.187.11654
SEQUENCE:3
DTSTAMP:20260423T041008Z
URL:https://business.boerne.org/events/details/ribbon-cutting-ceremony-for-brit-figures-and-hc-cryotherapy-11654
END:VEVENT

END:VCALENDAR
