BEGIN:VCALENDAR
VERSION:2.0
PRODID:-//ChamberMaster//Event Calendar 2.0//EN
METHOD:PUBLISH
X-PUBLISHED-TTL:P3D
REFRESH-INTERVAL:P3D
CALSCALE:GREGORIAN
BEGIN:VEVENT
DTSTART:20170831T163000Z
DTEND:20170831T170000Z
X-MICROSOFT-CDO-ALLDAYEVENT:FALSE
SUMMARY:Ribbon Cutting Ceremony for Boerne Dodge\, Chrysler\, and Jeep\, LLC
DESCRIPTION:Come join us for a Ribbon Cutting Ceremony for Boerne Dodge\, Chrysler\, and Jeep\, LLC. (link)
X-ALT-DESC;FMTTYPE=text/html:Come join us for a Ribbon Cutting Ceremony for Boerne Dodge\, Chrysler\, and Jeep\, LLC. <a href="https://www.boernedodgechryslerjeep.com/">(link</a>)
LOCATION:Boerne Dodge\, Chrysler and Jeep\, LLC. (map) 30300 IH 10 W Boerne\, Texas 78006
UID:e.187.11978
SEQUENCE:3
DTSTAMP:20260422T231836Z
URL:https://business.boerne.org/events/details/ribbon-cutting-ceremony-for-boerne-dodge-chrysler-and-jeep-llc-11978
END:VEVENT

END:VCALENDAR
