BEGIN:VCALENDAR
VERSION:2.0
PRODID:-//ChamberMaster//Event Calendar 2.0//EN
METHOD:PUBLISH
X-PUBLISHED-TTL:P3D
REFRESH-INTERVAL:P3D
CALSCALE:GREGORIAN
BEGIN:VEVENT
DTSTART:20170316T163000Z
DTEND:20170316T170000Z
X-MICROSOFT-CDO-ALLDAYEVENT:FALSE
SUMMARY:Ribbon Cutting Ceremony for Bird's Eye View Maps
DESCRIPTION:Come join us for a Ribbon Cutting Ceremony for Bird's Eye View Maps (link)
X-ALT-DESC;FMTTYPE=text/html:Come join us for a Ribbon Cutting Ceremony for Bird&#39\;s Eye View Maps&nbsp\;<a href="http://www.bevmaps.com/">(link</a>)
LOCATION:Roeder Park (map) 104 Roeder St. Boerne\, TX 78006
UID:e.187.11612
SEQUENCE:3
DTSTAMP:20260423T071719Z
URL:https://business.boerne.org/events/details/ribbon-cutting-ceremony-for-bird-s-eye-view-maps-11612
END:VEVENT

END:VCALENDAR
