BEGIN:VCALENDAR
VERSION:2.0
PRODID:-//ChamberMaster//Event Calendar 2.0//EN
METHOD:PUBLISH
X-PUBLISHED-TTL:P3D
REFRESH-INTERVAL:P3D
CALSCALE:GREGORIAN
BEGIN:VEVENT
DTSTART:20181030T183000Z
DTEND:20181030T190000Z
X-MICROSOFT-CDO-ALLDAYEVENT:FALSE
SUMMARY:Ribbon Cutting Ceremony for Annie's Apothecary
DESCRIPTION:Join us for a Ribbon Cutting Ceremony to celebrate Annie's Apothecary re-locating and re-opening.
X-ALT-DESC;FMTTYPE=text/html:Join us for a Ribbon Cutting Ceremony to celebrate Annie&#39\;s Apothecary re-locating and re-opening.
LOCATION:Annie's Apothecary 211 S. Saunders St. Boerne\, TX 78006
UID:e.187.14893
SEQUENCE:3
DTSTAMP:20260420T013543Z
URL:https://business.boerne.org/events/details/ribbon-cutting-ceremony-for-annie-s-apothecary-14893
END:VEVENT

END:VCALENDAR
