BEGIN:VCALENDAR
VERSION:2.0
PRODID:-//ChamberMaster//Event Calendar 2.0//EN
METHOD:PUBLISH
X-PUBLISHED-TTL:P3D
REFRESH-INTERVAL:P3D
CALSCALE:GREGORIAN
BEGIN:VEVENT
DTSTART:20170720T183000Z
DTEND:20170720T190000Z
X-MICROSOFT-CDO-ALLDAYEVENT:FALSE
SUMMARY:Ribbon Cutting Ceremony for ABCD Pediatrics
DESCRIPTION:Come join us for a Ribbon Cutting Ceremony for ABCD Pediatrics. (link)
X-ALT-DESC;FMTTYPE=text/html:Come join us for a Ribbon Cutting Ceremony for ABCD Pediatrics. (<a href="http://www.abcdpediatrics.com/">link</a>)
LOCATION:ABCD Pediatrics (map) 124 E. Bandera Road Suite 304 Boerne\, TX 78006 830/816-5055
UID:e.187.11686
SEQUENCE:3
DTSTAMP:20260423T022643Z
URL:https://business.boerne.org/events/details/ribbon-cutting-ceremony-for-abcd-pediatrics-11686
END:VEVENT

END:VCALENDAR
