BEGIN:VCALENDAR
VERSION:2.0
PRODID:-//ChamberMaster//Event Calendar 2.0//EN
METHOD:PUBLISH
X-PUBLISHED-TTL:P3D
REFRESH-INTERVAL:P3D
CALSCALE:GREGORIAN
BEGIN:VEVENT
DTSTART:20180522T183000Z
DTEND:20180522T193000Z
X-MICROSOFT-CDO-ALLDAYEVENT:FALSE
SUMMARY:Ribbon Cutting Ceremony - Christina Home Designs
DESCRIPTION:Come join us for a ribbon cutting ceremony for Christina Home Designs!
X-ALT-DESC;FMTTYPE=text/html:Come join us for a ribbon cutting ceremony for&nbsp\;Christina Home Designs!
LOCATION:Greater Boerne Chamber of Commerce (map) 121 S. Main Street Boerne\, TX 78006 Ph. 830-249-8000
UID:e.187.13913
SEQUENCE:3
DTSTAMP:20260422T090406Z
URL:https://business.boerne.org/events/details/ribbon-cutting-ceremony-christina-home-designs-13913
END:VEVENT

END:VCALENDAR
