BEGIN:VCALENDAR
VERSION:2.0
PRODID:-//ChamberMaster//Event Calendar 2.0//EN
METHOD:PUBLISH
X-PUBLISHED-TTL:P3D
REFRESH-INTERVAL:P3D
CALSCALE:GREGORIAN
BEGIN:VEVENT
DTSTART:20180424T183000Z
DTEND:20180424T190000Z
X-MICROSOFT-CDO-ALLDAYEVENT:FALSE
SUMMARY:Ribbon Cutting Box Drop Mattress & More
DESCRIPTION:Come join us for a Ribbon Cutting Ceremony for Box Drop Mattress & More. (link)
X-ALT-DESC;FMTTYPE=text/html:Come join us for a Ribbon Cutting Ceremony for Box Drop Mattress &amp\; More. (<a href="http://www.boxdropsa.com/">link</a>)
LOCATION:Box Drop Mattress & More (map) 28765 IH 10 W. Ste 100 Boerne\, TX 78005
UID:e.187.13670
SEQUENCE:3
DTSTAMP:20260420T110334Z
URL:https://business.boerne.org/events/details/ribbon-cutting-box-drop-mattress-more-13670
END:VEVENT

END:VCALENDAR
