BEGIN:VCALENDAR
VERSION:2.0
PRODID:-//ChamberMaster//Event Calendar 2.0//EN
METHOD:PUBLISH
X-PUBLISHED-TTL:P3D
REFRESH-INTERVAL:P3D
CALSCALE:GREGORIAN
BEGIN:VEVENT
DTSTART:20170711T213000Z
DTEND:20170711T220000Z
X-MICROSOFT-CDO-ALLDAYEVENT:FALSE
SUMMARY:Ribbon Cutting Better Homes and Gardens Real Estate Bradfield Properties
DESCRIPTION:Come join us for a Ribbon Cutting Ceremony for Better Homes & Gardens Real Estate Bradfield Properties. (link)
X-ALT-DESC;FMTTYPE=text/html:Come join us for a Ribbon Cutting Ceremony for Better Homes &amp\; Gardens Real Estate Bradfield Properties. (<a href="http://www.bradfieldproperties.com">link</a>)
LOCATION:Better Homes and Gardens Real Estate Bradfield Properties (map) 9091 Fair Oaks Parkway Ste.301 Boerne\,Tx 78015
UID:e.187.11682
SEQUENCE:3
DTSTAMP:20260423T023130Z
URL:https://business.boerne.org/events/details/ribbon-cutting-better-homes-and-gardens-real-estate-bradfield-properties-11682
END:VEVENT

END:VCALENDAR
