BEGIN:VCALENDAR
VERSION:2.0
PRODID:-//ChamberMaster//Event Calendar 2.0//EN
METHOD:PUBLISH
X-PUBLISHED-TTL:P3D
REFRESH-INTERVAL:P3D
CALSCALE:GREGORIAN
BEGIN:VEVENT
DTSTART:20210504T183000Z
DTEND:20210504T190000Z
X-MICROSOFT-CDO-ALLDAYEVENT:FALSE
SUMMARY:Ribbon Cutting and Welcome Reception for O.W. Lee Co.
DESCRIPTION:Join us for a ribbon cutting and welcome reception celebrating O.W. Lee Co.! \n\n\n\nFor over 70 years\, O.W. Lee Co. has been dedicated to the design and production of fine\, handcrafted outdoor furniture. O.W. Lee has relocated their operations from Ontario\, California to right here in Comfort\, Texas. O.W. Lee is a family-owned company that is committed to American manufacturing\, bringing over 150 jobs to Kendall County. Join us in welcoming O.W. Lee to Texas on May 4th with a ribbon cutting celebration and a special welcome reception hosted by Boerne Kendall County Economic Development Corporation. Learn more about O.W. Lee by going here: www.owlee.com.
X-ALT-DESC;FMTTYPE=text/html:<p><span style="font-family:arial\;">Join us for a ribbon cutting and welcome reception celebrating O.W. Lee Co.!&nbsp\;<br />\n<br />\nFor over 70 years\, O.W. Lee Co. has been dedicated to the design and production of fine\, handcrafted outdoor furniture. O.W. Lee has relocated&nbsp\;their operations from Ontario\, California&nbsp\;to right here in Comfort\, Texas. O.W. Lee is a family-owned company that is committed to American manufacturing\, bringing over 150 jobs to Kendall County. Join us in welcoming O.W. Lee to Texas on May 4th with a ribbon cutting celebration and a special welcome reception hosted by Boerne Kendall County Economic Development Corporation. Learn more about O.W. Lee&nbsp\;by going here: www.owlee.com.&nbsp\;</span></p>\n
LOCATION:O.W. Lee Co. 1206 Fifth St. Comfort\, Texas 78013
UID:e.187.19035
SEQUENCE:3
DTSTAMP:20260424T180341Z
URL:https://business.boerne.org/events/details/ribbon-cutting-and-welcome-reception-for-o-w-lee-co-19035
END:VEVENT

END:VCALENDAR
