BEGIN:VCALENDAR
VERSION:2.0
PRODID:-//ChamberMaster//Event Calendar 2.0//EN
METHOD:PUBLISH
X-PUBLISHED-TTL:P3D
REFRESH-INTERVAL:P3D
CALSCALE:GREGORIAN
BEGIN:VEVENT
DTSTART:20171117T220000Z
DTEND:20171117T223000Z
X-MICROSOFT-CDO-ALLDAYEVENT:FALSE
SUMMARY:Ribbon Cutting and Open House Ultimate Classic Cars
DESCRIPTION:Come join us for a Ribbon Cutting Ceremony and Open House for Ultimate Classic Cars. (link)
X-ALT-DESC;FMTTYPE=text/html:Come join us for a Ribbon Cutting Ceremony and Open House for Ultimate Classic Cars. (<a href="http://www.ultimateclassiccars.com/">link</a>)
LOCATION:Ultimate Classic Cars (map) 40500 IH 10 W. Boerne\, TX 78006
UID:e.187.11984
SEQUENCE:3
DTSTAMP:20260422T184902Z
URL:https://business.boerne.org/events/details/ribbon-cutting-and-open-house-ultimate-classic-cars-11984
END:VEVENT

END:VCALENDAR
