BEGIN:VCALENDAR
VERSION:2.0
PRODID:-//ChamberMaster//Event Calendar 2.0//EN
METHOD:PUBLISH
X-PUBLISHED-TTL:P3D
REFRESH-INTERVAL:P3D
CALSCALE:GREGORIAN
BEGIN:VEVENT
DTSTART:20190410T140000Z
DTEND:20190410T163000Z
X-MICROSOFT-CDO-ALLDAYEVENT:FALSE
SUMMARY:RevLocal Connect Featuring Google
DESCRIPTION:San Antonio-area business owners\, learn how to enhance your digital marketing by attending a free networking event featuring RevLocal and Google.\n\n\n\nAt this free digital marketing event\, you'll meet and network with other local business owners while learning how to market your business online. Speakers from Google and RevLocal will teach you the latest information to enhance your marketing and get ahead of the competition.
X-ALT-DESC;FMTTYPE=text/html:San Antonio-area business owners\, learn how to enhance your digital marketing by attending a free networking event featuring RevLocal and Google.<br />\n<br />\nAt this free digital marketing event\, you&rsquo\;ll meet and network with other local business owners while learning how to market your business online. Speakers from Google and RevLocal will teach you the latest information to enhance your marketing and get ahead of the competition.
LOCATION:Holiday Inn San Antonio North - Stone Oak Area 19280 Redland Rd. San Antonio\, TX 78259
UID:e.187.16348
SEQUENCE:3
DTSTAMP:20260419T160537Z
URL:https://business.boerne.org/events/details/revlocal-connect-featuring-google-16348
END:VEVENT

END:VCALENDAR
