BEGIN:VCALENDAR
VERSION:2.0
PRODID:-//ChamberMaster//Event Calendar 2.0//EN
METHOD:PUBLISH
X-PUBLISHED-TTL:P3D
REFRESH-INTERVAL:P3D
CALSCALE:GREGORIAN
BEGIN:VEVENT
DTSTART:20200805T133000Z
DTEND:20200805T143000Z
X-MICROSOFT-CDO-ALLDAYEVENT:FALSE
SUMMARY:Retailers & Restaurant Meeting | Special Guest Ben Thatcher\, City of Boerne City Manager
DESCRIPTION:Join us for a special virtual meet and greet with the new City of Boerne City Manager Ben Thatcher.
X-ALT-DESC;FMTTYPE=text/html:Join us for a special virtual meet and greet with the new City of Boerne City Manager Ben Thatcher.
LOCATION:Boerne Chamber is inviting you to a scheduled Zoom meeting. Join Zoom Meeting https://us02web.zoom.us/j/84937244402?pwd=US9rSjBsV0dkd29aK3lrSXhtNlZYQT09 Meeting ID: 849 3724 4402 Password: 312825 One tap mobile +13462487799\,\,84937244402#\,\,\,\,0#\,\,312825# US (Houston) +12532158782\,\,84937244402#\,\,\,\,0#\,\,312825# US (Tacoma) Dial by your location +1 346 248 7799 US (Houston) +1 253 215 8782 US (Tacoma) +1 669 900 9128 US (San Jose) +1 312 626 6799 US (Chicago) +1 646 558 8656 US (New York) +1 301 715 8592 US (Germantown) Meeting ID: 849 3724 4402 Password: 312825 Find your local number: https://us02web.zoom.us/u/kcLwcJsb14
UID:e.187.17730
SEQUENCE:3
DTSTAMP:20260425T115946Z
URL:https://business.boerne.org/events/details/retailers-restaurant-meeting-special-guest-ben-thatcher-city-of-boerne-city-manager-17730
END:VEVENT

END:VCALENDAR
