BEGIN:VCALENDAR
VERSION:2.0
PRODID:-//ChamberMaster//Event Calendar 2.0//EN
METHOD:PUBLISH
X-PUBLISHED-TTL:P3D
REFRESH-INTERVAL:P3D
CALSCALE:GREGORIAN
BEGIN:VEVENT
DTSTART:20170620T230000Z
DTEND:20170621T000000Z
X-MICROSOFT-CDO-ALLDAYEVENT:FALSE
SUMMARY:Retail Committee Meeting
DESCRIPTION:monthly retail committee meeting
X-ALT-DESC;FMTTYPE=text/html:<div style="color: gray\;">monthly retail committee meeting</div>\n
LOCATION:
UID:e.187.7570
SEQUENCE:3
DTSTAMP:20260423T022643Z
URL:https://business.boerne.org/events/details/retail-committee-meeting-06-20-2017-7570
END:VEVENT

END:VCALENDAR
