BEGIN:VCALENDAR
VERSION:2.0
PRODID:-//ChamberMaster//Event Calendar 2.0//EN
METHOD:PUBLISH
X-PUBLISHED-TTL:P3D
REFRESH-INTERVAL:P3D
CALSCALE:GREGORIAN
BEGIN:VEVENT
DTSTART:20300504T150000Z
DTEND:20300504T170000Z
X-MICROSOFT-CDO-ALLDAYEVENT:FALSE
SUMMARY:Restorative Yoga at San Antonio Yoga in Boerne
DESCRIPTION:A gentle\, grounding peaceful practice reducing the effects of stress and anxiety.
X-ALT-DESC;FMTTYPE=text/html:A gentle\, grounding peaceful practice reducing the effects of stress and anxiety.
LOCATION:San Antonio Yoga 101 Oak Ridge Dr. Boerne\, Tx 78006
UID:e.187.31575
SEQUENCE:3
DTSTAMP:20260425T184348Z
URL:https://business.boerne.org/events/details/restorivate-yoga-05-04-2030-31575
END:VEVENT

END:VCALENDAR
