BEGIN:VCALENDAR
VERSION:2.0
PRODID:-//ChamberMaster//Event Calendar 2.0//EN
METHOD:PUBLISH
X-PUBLISHED-TTL:P3D
REFRESH-INTERVAL:P3D
CALSCALE:GREGORIAN
BEGIN:VEVENT
DTSTART:20241008T213000Z
DTEND:20241008T230000Z
X-MICROSOFT-CDO-ALLDAYEVENT:FALSE
SUMMARY:Realtors on the Front Porch
DESCRIPTION:Join Berkshire Hathaway HomeServices the 2nd Tuesday of every month\, 4:30-6pm for Realtors on the Front Porch event. The next Realtors on the Porch event is scheduled for Tuesday\, October 8th and hosted by Adelante Mortgage & Stewart Title. Food\, drinks and door prizes will be provided. They will have guest speakers (CE credits most of the time with presentations).\n\n\n\nAfterwards\, continue with drinks and food on the front porch where you can share home\, ranch and commercial listings with other agents.  \n\n\n\nWhere: Berkshire Hathaway HomeServices - 32840 IH 10 W. Boerne\, TX 78006\n\n\n\nRSVP to JamesDuerrRealtor@gmail.com\n\nQuestions: 830-816-5151
X-ALT-DESC;FMTTYPE=text/html:Join Berkshire Hathaway HomeServices the 2nd Tuesday of every month\, 4:30-6pm for Realtors on the Front Porch event. The next Realtors on the Porch event is scheduled for Tuesday\, October 8th and hosted by Adelante Mortgage &amp\; Stewart Title. Food\, drinks and door prizes will be provided.&nbsp\;They will have guest speakers (CE credits most of the time with presentations).<br />\n<br />\nAfterwards\, continue with drinks and food on the front porch where you can share home\, ranch and commercial listings with other agents.&nbsp\;&nbsp\;<br />\n<br />\nWhere: Berkshire Hathaway HomeServices - 32840 IH 10 W. Boerne\, TX 78006<br />\n<br />\nRSVP to JamesDuerrRealtor@gmail.com<br />\nQuestions: 830-816-5151
LOCATION:Berkshire Hathaway HomeServices 32840 IH 10 W. Boerne\, TX 78006
UID:e.187.28662
SEQUENCE:3
DTSTAMP:20260419T174238Z
URL:https://business.boerne.org/events/details/realtors-on-the-front-porch-28662
END:VEVENT

END:VCALENDAR
