BEGIN:VCALENDAR
VERSION:2.0
PRODID:-//ChamberMaster//Event Calendar 2.0//EN
METHOD:PUBLISH
X-PUBLISHED-TTL:P3D
REFRESH-INTERVAL:P3D
CALSCALE:GREGORIAN
BEGIN:VEVENT
DTSTART:20171017T213000Z
DTEND:20171017T230000Z
X-MICROSOFT-CDO-ALLDAYEVENT:FALSE
SUMMARY:Realtor Connection sponsored by Capital Title and Helmke Agency
DESCRIPTION:Come join us for the Realtor's Connection sponsored by Capital Title and Helmke Agency -Farmers Insurance. \n\nThis is for realtors and those who are in the real estate business.
X-ALT-DESC;FMTTYPE=text/html:Come join us for the Realtor&#39\;s Connection sponsored by Capital Title and&nbsp\;Helmke Agency -Farmers Insurance.&nbsp\;<br />\nThis is for realtors and those who are in the real estate business.
LOCATION:Capital Title (map) 705 South Main Boerne\, TX 78006 (830) 955-8183 (844) 411-8951 (fax)
UID:e.187.11985
SEQUENCE:3
DTSTAMP:20260422T213513Z
URL:https://business.boerne.org/events/details/realtor-connection-sponsored-by-capital-title-and-helmke-agency-11985
END:VEVENT

END:VCALENDAR
