BEGIN:VCALENDAR
VERSION:2.0
PRODID:-//ChamberMaster//Event Calendar 2.0//EN
METHOD:PUBLISH
X-PUBLISHED-TTL:P3D
REFRESH-INTERVAL:P3D
CALSCALE:GREGORIAN
BEGIN:VEVENT
DTSTART:20180612T133000Z
DTEND:20180612T143000Z
X-MICROSOFT-CDO-ALLDAYEVENT:FALSE
SUMMARY:Radical Customer Service Workshop Presented by Texas Business Buyers
DESCRIPTION:Creating a Culture of Radical Customer Service in Your Organization.\n\n \n\nPoor customer service kills profitability and company health.  Our customers expect to be treated with extreme care and yet most businesses struggle to get their employees engaged in getting the basics of product delivery.  It is very difficult to grow and increase the value of any business without good customer service and without growth your business is at risk.\n\n \n\nIf your customers experience poor service your cost to acquire new customers drastically increases\, your margins decline\, your morale suffers\, employee retention is tough and your business as a whole can fail.  The energy to sustain a company with customer service issues creates stress and problems for you not only financially but in your overall health and happiness. \n\n \n\nThere is hope.\n\n \n\nHere is what we will cover in our next Building Business Value Series\n\nWhat to do when your business struggles with Customer Service\n\nWhat is really driving poor performance\n\nHow to motivate and engage your team\n\nHow to measure performance and what tools can you use to jumpstart your customer serve.\n\nYou will leave with information you can implement in your business.\n\n \n\nPresenter\n\nRobert Upton is the founder of SimpleWorks a consulting company that focuses on building a healthy culture and follows a systematic approach to business growth\, utilizing best practices and proven methods.  SimpleWorks focuses on 3 key areas Build a Great Team\, Maximize Business Value\, and Gain Owner Freedom.\n\n \n\nRobert Upton has owned 3 small businesses and has management and sales background in real estate\, B2B service companies\, and nonprofit.  He has consulted businesses from a large variety of industries over the last decade.  Robert also works with Texas Business Buyers\, a leading Texas firm that specializes in small business transactions and has 100% success record in selling healthy businesses they have represented\, for 98.5% of asking price\n\n \n\nThis is our 5th in the Building Business Value Series.  We hope you can join us the 2nd Tuesday of each month.
X-ALT-DESC;FMTTYPE=text/html:Creating a Culture of Radical Customer Service in Your Organization.<br />\n&nbsp\;<br />\nPoor customer service kills profitability and company health.&nbsp\; Our customers expect to be treated with extreme care and yet most businesses struggle to get their employees engaged in getting the basics of product delivery.&nbsp\; It is very difficult to grow and increase the value of any business without good customer service and without growth your business is at risk.<br />\n&nbsp\;<br />\nIf your customers experience poor service your cost to acquire new customers drastically increases\, your margins decline\, your morale suffers\, employee retention is tough and your business as a whole can fail.&nbsp\; The energy to sustain a company with customer service issues creates stress and problems for you not only financially but in your overall health and happiness.&nbsp\;<br />\n&nbsp\;<br />\nThere is hope.<br />\n&nbsp\;<br />\nHere is what we will cover in our next Building Business Value Series<br />\nWhat to do when your business struggles with Customer Service<br />\nWhat is really driving poor performance<br />\nHow to motivate and engage your team<br />\nHow to measure performance and what tools can you use to jumpstart your customer serve.<br />\nYou will leave with information you can implement in your business.<br />\n&nbsp\;<br />\nPresenter<br />\nRobert Upton is the founder of SimpleWorks a consulting company that focuses on building a healthy culture and follows a systematic approach to business growth\, utilizing best practices and proven methods.&nbsp\; SimpleWorks focuses on 3 key areas Build a Great Team\, Maximize Business Value\, and Gain Owner Freedom.<br />\n&nbsp\;<br />\nRobert Upton has owned 3 small businesses and has management and sales background in real estate\, B2B service companies\, and nonprofit.&nbsp\; He has consulted businesses from a large variety of industries over the last decade.&nbsp\; Robert also works with Texas Business Buyers\, a leading Texas firm that specializes in small business transactions and has 100% success record in selling healthy businesses they have represented\, for 98.5% of asking price<br />\n&nbsp\;<br />\nThis is our 5th in the Building Business Value Series.&nbsp\; We hope you can join us the 2nd Tuesday of each month. &nbsp\;
LOCATION:Boardroom
UID:e.187.11967
SEQUENCE:3
DTSTAMP:20260420T074536Z
URL:https://business.boerne.org/events/details/radical-customer-service-workshop-presented-by-texas-business-buyers-11967
END:VEVENT

END:VCALENDAR
