BEGIN:VCALENDAR
VERSION:2.0
PRODID:-//ChamberMaster//Event Calendar 2.0//EN
METHOD:PUBLISH
X-PUBLISHED-TTL:P3D
REFRESH-INTERVAL:P3D
CALSCALE:GREGORIAN
BEGIN:VEVENT
DTSTART:20201204T000000Z
DTEND:20201204T030000Z
X-MICROSOFT-CDO-ALLDAYEVENT:FALSE
SUMMARY:Purse Mania 2.0
DESCRIPTION:'          ? Join us at Purse Mania 2.0 on December 3rd at The Bevy Hotel. \n\nGet ready for a fun-filled night: Plated dinner\, our signature drink\, a photo booth\, DJ\, a fashion show by The Dienger Trading Co. featuring our Boerne ISD Teachers of the Year and your chance to win designer purses and accessories. Social distancing measures will be in place. Your tax-deductible donation supports every student\, every teacher and every school in Boerne ISD. \n\n                        !                                 .
X-ALT-DESC;FMTTYPE=text/html:<div class="kvgmc6g5 cxmmr5t8 oygrvhab hcukyx3x c1et5uql" style="word-wrap: break-word\; margin: 0px\; font-family: system-ui\, -apple-system\, BlinkMacSystemFont\, &quot\;.SFNSText-Regular&quot\;\, sans-serif\; caret-color: rgb(5\, 5\, 5)\; color: rgb(5\, 5\, 5)\; font-size: 15px\;">&#119808\;&#119851\;&#119838\; &#119858\;&#119848\;&#119854\; &#119851\;&#119838\;&#119834\;&#119837\;&#119858\; &#119839\;&#119848\;&#119851\; &#119834\; &#119819\;&#119834\;&#119837\;&#119842\;&#119838\;&#119852\;&#39\; &#119821\;&#119842\;&#119840\;&#119841\;&#119853\; &#119822\;&#119854\;&#119853\;? Join us at Purse Mania 2.0 on December 3rd at The Bevy Hotel.&nbsp\;</div>\n\n<div class="o9v6fnle cxmmr5t8 oygrvhab hcukyx3x c1et5uql" style="word-wrap: break-word\; margin: 0.5em 0px 0px\; font-family: system-ui\, -apple-system\, BlinkMacSystemFont\, &quot\;.SFNSText-Regular&quot\;\, sans-serif\; caret-color: rgb(5\, 5\, 5)\; color: rgb(5\, 5\, 5)\; font-size: 15px\;">Get ready for a fun-filled night: Plated dinner\, our signature drink\, a photo booth\, DJ\, a fashion show by The Dienger Trading Co. featuring our Boerne ISD Teachers of the Year and your chance to win designer purses and accessories. Social distancing measures will be in place. Your tax-deductible donation supports every student\, every teacher and every school in Boerne ISD.&nbsp\;</div>\n\n<div class="o9v6fnle cxmmr5t8 oygrvhab hcukyx3x c1et5uql" style="word-wrap: break-word\; margin: 0.5em 0px 0px\; font-family: system-ui\, -apple-system\, BlinkMacSystemFont\, &quot\;.SFNSText-Regular&quot\;\, sans-serif\; caret-color: rgb(5\, 5\, 5)\; color: rgb(5\, 5\, 5)\; font-size: 15px\;">&#119827\;&#119841\;&#119842\;&#119852\; &#119838\;&#119855\;&#119838\;&#119847\;&#119853\; &#119856\;&#119842\;&#119845\;&#119845\; &#119852\;&#119838\;&#119845\;&#119845\; &#119848\;&#119854\;&#119853\;! &#119825\;&#119838\;&#119852\;&#119838\;&#119851\;&#119855\;&#119838\; &#119858\;&#119848\;&#119854\;&#119851\; &#119853\;&#119834\;&#119835\;&#119845\;&#119838\; &#119848\;&#119851\; &#119852\;&#119838\;&#119834\;&#119853\; &#119853\;&#119848\;&#119837\;&#119834\;&#119858\;.</div>\n
LOCATION:The Bevy Hotel\, A Doubletree by Hilton
UID:e.187.18435
SEQUENCE:3
DTSTAMP:20260425T020048Z
URL:https://business.boerne.org/events/details/purse-mania-2-0-18435
END:VEVENT

END:VCALENDAR
