BEGIN:VCALENDAR
VERSION:2.0
PRODID:-//ChamberMaster//Event Calendar 2.0//EN
METHOD:PUBLISH
X-PUBLISHED-TTL:P3D
REFRESH-INTERVAL:P3D
CALSCALE:GREGORIAN
BEGIN:VEVENT
DTSTART:20250622T180000Z
DTEND:20250622T210000Z
X-MICROSOFT-CDO-ALLDAYEVENT:FALSE
SUMMARY:POPULAR B&B IN Boerne Town Now For Sale Open House Sunday 6-22 1-4 Same weekend as Market Days
DESCRIPTION:OPEN HOUSE    Popular Boerne Town B&B    112 Shadywood   Boerne\, Texas
X-ALT-DESC;FMTTYPE=text/html:OPEN HOUSE&nbsp\; &nbsp\; Popular Boerne Town B&amp\;B&nbsp\; &nbsp\; 112 Shadywood&nbsp\; &nbsp\;Boerne\, Texas<br />\n<br />\n&nbsp\;
LOCATION:112 Shadywood Boerne\, Texas
UID:e.187.30621
SEQUENCE:3
DTSTAMP:20260422T195917Z
URL:https://business.boerne.org/events/details/popular-b-b-in-boerne-town-now-for-sale-open-house-sunday-6-22-1-4-same-weekend-as-market-days-30621
END:VEVENT

END:VCALENDAR
