BEGIN:VCALENDAR
VERSION:2.0
PRODID:-//ChamberMaster//Event Calendar 2.0//EN
METHOD:PUBLISH
X-PUBLISHED-TTL:P3D
REFRESH-INTERVAL:P3D
CALSCALE:GREGORIAN
BEGIN:VEVENT
DTSTART;VALUE=DATE:20181226
DTEND;VALUE=DATE:20181229
TRANSP:TRANSPARENT
X-MICROSOFT-CDO-ALLDAYEVENT:TRUE
SUMMARY:Physics of Flight at the Science Mill
DESCRIPTION:Take flight without ever leaving the ground! No need to fight the holiday crowds at the airport\, just come to the Science Mill for Up\, Up\, and Away\, three days dedicated to the physics of flight.\n\n\n\nAttendees will explore the principles of lift\, drag\, weight and thrust with hands-on activities for the whole family!
X-ALT-DESC;FMTTYPE=text/html:Take flight without ever leaving the ground! No need to fight the holiday crowds at the airport\, just come to the Science Mill for Up\, Up\, and Away\, three days dedicated to the physics of flight.<br />\n<br />\nAttendees will explore the principles of lift\, drag\, weight and thrust with hands-on activities for the whole family!
LOCATION:Science Mill 101 S. Lady Bird Ln. Johnson City\, TX 78636
UID:e.187.15316
SEQUENCE:3
DTSTAMP:20260419T234941Z
URL:https://business.boerne.org/events/details/physics-of-flight-at-the-science-mill-15316
END:VEVENT

END:VCALENDAR
