BEGIN:VCALENDAR
VERSION:2.0
PRODID:-//ChamberMaster//Event Calendar 2.0//EN
METHOD:PUBLISH
X-PUBLISHED-TTL:P3D
REFRESH-INTERVAL:P3D
CALSCALE:GREGORIAN
BEGIN:VEVENT
DTSTART:20191003T210000Z
DTEND:20191003T230000Z
X-MICROSOFT-CDO-ALLDAYEVENT:FALSE
SUMMARY:Phyllis Browning Company's 30th Anniversary Party Roadshow
DESCRIPTION:In commemoration of our 30th Anniversary\, we are taking the party on the road! Join us for a celebration at our Boerne location. Since 1989\, Phyllis Browning Company (PBC) has provided "The Very Best" in South Texas real estate services. Special thanks to our sponsors for helping us mark this momentous occasion! San Antonio Luxury Home Magazine The Boerne Wine Company The Creek Restaurant Boerne Epicure Gourmet Market Camp Verde General Store and Restaurant Bechants
X-ALT-DESC;FMTTYPE=text/html:In commemoration of our 30th Anniversary\, we are taking the party on the road! Join us for a celebration at our Boerne location. Since 1989\, Phyllis Browning Company (PBC) has provided &ldquo\;The Very Best&rdquo\; in South Texas real estate services. Special thanks to our sponsors for helping us mark this momentous occasion! San Antonio Luxury Home Magazine The Boerne Wine Company The Creek Restaurant Boerne Epicure Gourmet Market Camp Verde General Store and Restaurant Bechants
LOCATION:711 S. Main Street Boerne\, TX 78006
UID:e.187.16766
SEQUENCE:3
DTSTAMP:20260419T210707Z
URL:https://business.boerne.org/events/details/phyllis-browning-company-s-30th-anniversary-party-roadshow-16766
END:VEVENT

END:VCALENDAR
