BEGIN:VCALENDAR
VERSION:2.0
PRODID:-//ChamberMaster//Event Calendar 2.0//EN
METHOD:PUBLISH
X-PUBLISHED-TTL:P3D
REFRESH-INTERVAL:P3D
CALSCALE:GREGORIAN
BEGIN:VEVENT
DTSTART:20181106T220000Z
DTEND:20181107T010000Z
X-MICROSOFT-CDO-ALLDAYEVENT:FALSE
SUMMARY:Operation Thank You
DESCRIPTION:Volunteers\, Ambassadors\, Board Members and Chamber Staff will be meeting for Operation Thank You Pick-Up Event between 4-7pm on Tuesday\, November 6th at Saint Tryphon Farm and Vineyard. Each will be given an assigned list of members to invite and greet at the event.
X-ALT-DESC;FMTTYPE=text/html:Volunteers\, Ambassadors\, Board Members and Chamber Staff will be meeting for Operation Thank You Pick-Up Event between 4-7pm on Tuesday\, November 6th at&nbsp\;Saint Tryphon Farm and Vineyard.&nbsp\;Each will be given an assigned list of members to invite and greet at the event.&nbsp\;
LOCATION:Saint Tryphon Farm and Vineyard 24 Wasp Creek Rd. Boerne\, TX 78006
UID:e.187.15114
SEQUENCE:3
DTSTAMP:20260419T234851Z
URL:https://business.boerne.org/events/details/operation-thank-you-15114
END:VEVENT

END:VCALENDAR
