BEGIN:VCALENDAR
VERSION:2.0
PRODID:-//ChamberMaster//Event Calendar 2.0//EN
METHOD:PUBLISH
X-PUBLISHED-TTL:P3D
REFRESH-INTERVAL:P3D
CALSCALE:GREGORIAN
BEGIN:VEVENT
DTSTART:20260506T140000Z
DTEND:20260506T150000Z
X-MICROSOFT-CDO-ALLDAYEVENT:FALSE
SUMMARY:ONLINE Workshop: Knowing Your Online Chamber Benefits
DESCRIPTION:Register today for a FREE educational Zoom meeting featuring Jason Moengen\, where he will be presenting members with "Knowing Your Online Chamber Benefits." Jason serves as The Boerne Chamber's Internet Marketing Consultant and assists members with their online portal and website advertising. \n\n \n\nWhen:\n\nWednesday\, May 6\, 2026\n\n9:00 AM - 10:00 AM\n\n\n\nWhere: \n\nThis is an ONLINE SESSION ONLY. Click here for the Zoom Meeting Link   \n\n \n\nWhy attend?\n\n          Live Walkthrough: Watch a live demo of the online Chamber platform.\n\n          New Member Fast-Track: Everything you need to know to get started today.\n\n          Visibility Hacks: How to optimize your portal listing to rank higher in member searches.\n\n          Ad Mastery: Tips for using website advertising to reach local customers.\n\n          The "Refresh" Checklist: Small tweaks for long-time members that yield big results.\n\n \n\nA FREE guided tour.  a step-by-step overview of the online member portal to ensure you're using every tool at your disposal.\n\n \n\nCLICK HERE FOR THE MEETING LINK!
X-ALT-DESC;FMTTYPE=text/html:<span style="color:black\;"><a href="https://nam10.safelinks.protection.outlook.com/?url=https%3A%2F%2Fus06web.zoom.us%2Fj%2F84146678039%3Fpwd%3DUQzZY0MaJ55UWTHyx0hSeNTI00A0CS.1&amp\;data=05%7C02%7Csteely%40boerne.org%7C150ec89d9db54a860e6508dea0774826%7C8d825765118643cc86dbca64defef9a2%7C0%7C0%7C639124631416753976%7CUnknown%7CTWFpbGZsb3d8eyJFbXB0eU1hcGkiOnRydWUsIlYiOiIwLjAuMDAwMCIsIlAiOiJXaW4zMiIsIkFOIjoiTWFpbCIsIldUIjoyfQ%3D%3D%7C0%7C%7C%7C&amp\;sdata=KKH1CSyKvYuztxTdSh34wbvnuK8apFwdprdgUtqT74A%3D&amp\;reserved=0" target="_blank" title="https://us06web.zoom.us/j/84146678039?pwd=UQzZY0MaJ55UWTHyx0hSeNTI00A0CS.1">Register today for</a>&nbsp\;a&nbsp\;FREE educational Zoom meeting featuring Jason Moengen\, where he will be presenting members with <strong>&quot\;Knowing Your Online Chamber Benefits.&quot\; </strong>Jason&nbsp\;serves as The Boerne Chamber&#39\;s Internet Marketing Consultant and assists members with their online portal and website advertising.&nbsp\;</span><br />\n&nbsp\;<br />\n<strong><span style="background:yellow\;"><span style="color:black\;">When:</span></span></strong><br />\n<span style="color:black\;">Wednesday\, May 6\, 2026</span><br />\n<span style="color:black\;">9:00 AM - 10:00 AM</span><br />\n<br />\n<strong><span style="background:yellow\;"><span style="color:black\;">Where:&nbsp\;</span></span></strong><br />\n<span style="color:black\;">This is an ONLINE SESSION ONLY. <a href="https://us06web.zoom.us/meeting/register/UhKYOfYmSBakGa1OwY64mg#/registration">Click here for the Zoom Meeting Link &gt\;&gt\;</a></span><br />\n&nbsp\;<br />\n<strong><span style="background:yellow\;"><span style="color:black\;">Why attend?</span></span></strong><br />\n<span style="color:black\;">&middot\;&nbsp\;&nbsp\;&nbsp\;&nbsp\;&nbsp\;&nbsp\;&nbsp\; &nbsp\;<strong>Live Walkthrough:</strong>&nbsp\;Watch a live demo of the online Chamber platform.</span><br />\n<span style="color:black\;">&middot\;&nbsp\;&nbsp\;&nbsp\;&nbsp\;&nbsp\;&nbsp\;&nbsp\; &nbsp\;<strong>New Member Fast-Track:</strong>&nbsp\;Everything you need to know to get started today.</span><br />\n<span style="color:black\;">&middot\;&nbsp\;&nbsp\;&nbsp\;&nbsp\;&nbsp\;&nbsp\;&nbsp\; &nbsp\;<strong>Visibility Hacks</strong>: How to optimize your portal listing to rank higher in member searches.</span><br />\n<span style="color:black\;">&middot\;&nbsp\;&nbsp\;&nbsp\;&nbsp\;&nbsp\;&nbsp\;&nbsp\; &nbsp\;<strong>Ad Mastery</strong>: Tips for using website advertising to reach local customers.</span><br />\n<span style="color:black\;">&middot\;&nbsp\;&nbsp\;&nbsp\;&nbsp\;&nbsp\;&nbsp\;&nbsp\; &nbsp\;<strong>The &quot\;Refresh&quot\; Checklist</strong>: Small tweaks for long-time members that yield big results.</span><br />\n&nbsp\;<br />\n<strong><span style="color:black\;">A FREE guided tour. </span></strong><span style="color:black\;">&nbsp\;a step-by-step overview of the online member portal to ensure you&rsquo\;re using every tool at your disposal.</span><br />\n&nbsp\;<br />\n<a href="https://us06web.zoom.us/meeting/register/UhKYOfYmSBakGa1OwY64mg#/registration"><span style="color:#643282\;"><strong>CLICK HERE FOR THE MEETING LINK!</strong></span></a>
LOCATION:ONLINE!
UID:e.187.32394
SEQUENCE:3
DTSTAMP:20260424T085929Z
URL:https://business.boerne.org/events/details/online-workshop-knowing-your-online-chamber-benefits-32394
END:VEVENT

END:VCALENDAR
