BEGIN:VCALENDAR
VERSION:2.0
PRODID:-//ChamberMaster//Event Calendar 2.0//EN
METHOD:PUBLISH
X-PUBLISHED-TTL:P3D
REFRESH-INTERVAL:P3D
CALSCALE:GREGORIAN
BEGIN:VEVENT
DTSTART:20191126T160000Z
DTEND:20191126T173000Z
X-MICROSOFT-CDO-ALLDAYEVENT:FALSE
SUMMARY:NonProfit Committee Meeting
DESCRIPTION:On behalf of The Greater Boerne Chamber of Commerce you are invited to join our Non-Profit Committee. The expected outcome of this committee is to demonstrate a strong\, vital non-profit community that enhances and supports the quality of life and growth of the region.\n\n\n\nAt this meeting we will be discussing:\n\n	Meeting Dates for 2020\n	NonProfit Committee Facebook Group - How to Join & How to Use The Group
X-ALT-DESC;FMTTYPE=text/html:On behalf of The Greater Boerne Chamber of Commerce you are invited to join our Non-Profit Committee. The expected outcome of this committee is to demonstrate a strong\, vital non-profit community that enhances and supports the quality of life and growth of the region.<br />\n<br />\nAt this meeting we will be discussing:\n<ul>\n	<li>Meeting Dates for 2020</li>\n	<li>NonProfit Committee Facebook Group - How to Join &amp\; How to Use The Group</li>\n</ul>\n
LOCATION:Patrick Heath Public Library - Community Room 451 N. Main St. Boerne\, TX 78006
UID:e.187.17072
SEQUENCE:3
DTSTAMP:20260419T210234Z
URL:https://business.boerne.org/events/details/nonprofit-committee-meeting-17072
END:VEVENT

END:VCALENDAR
